BEGIN:VCALENDAR
VERSION:2.0
PRODID:-//South Coast Institute of Technology - ECPv6.15.15//NONSGML v1.0//EN
CALSCALE:GREGORIAN
METHOD:PUBLISH
X-WR-CALNAME:South Coast Institute of Technology
X-ORIGINAL-URL:https://southcoastiot.ac.uk
X-WR-CALDESC:Events for South Coast Institute of Technology
REFRESH-INTERVAL;VALUE=DURATION:PT1H
X-Robots-Tag:noindex
X-PUBLISHED-TTL:PT1H
BEGIN:VTIMEZONE
TZID:UTC
BEGIN:STANDARD
TZOFFSETFROM:+0000
TZOFFSETTO:+0000
TZNAME:UTC
DTSTART:20240101T000000
END:STANDARD
END:VTIMEZONE
BEGIN:VEVENT
DTSTART;TZID=UTC:20260110T100000
DTEND;TZID=UTC:20260110T130000
DTSTAMP:20260421T092633
CREATED:20251201T154349Z
LAST-MODIFIED:20260119T161243Z
UID:10426-1768039200-1768050000@southcoastiot.ac.uk
SUMMARY:Isle of Wight Adult Education Open Event
DESCRIPTION:The Isle of Wight Adult Education Open Event is your chance to explore a wide range of courses for adults of all ages\, from vocational skills and professional development to creative arts and IT. Visitors can tour the campus\, meet experienced tutors\, and learn about enrolment\, funding options\, and career pathways. Staff will answer questions about courses\, support services\, and opportunities to upskill or retrain. Attendees can also join sample workshops\, demonstrations\, and interactive sessions to experience college life first-hand. Whether you are returning to education\, looking to enhance your career prospects\, or pursuing personal development\, this open event provides a clear view of what adult education on the Isle of Wight can offer.
URL:https://southcoastiot.ac.uk/event/isle-of-wight-adult-education-open-event/
LOCATION:Isle Wight College\, Medina Way\, Newport\, Isle of Wight\, PO30 5TA\, United Kingdom
CATEGORIES:college,Open Event
ATTACH;FMTTYPE=image/webp:https://southcoastiot.ac.uk/wp-content/uploads/2025/12/Uni-IOW.webp
ORGANIZER;CN="Isle of Wight College":MAILTO:info@iwcollege.ac.uk
END:VEVENT
BEGIN:VEVENT
DTSTART;TZID=UTC:20251210T170000
DTEND;TZID=UTC:20251210T190000
DTSTAMP:20260421T092633
CREATED:20251201T150621Z
LAST-MODIFIED:20260119T161651Z
UID:10421-1765386000-1765393200@southcoastiot.ac.uk
SUMMARY:Havant and South Downs College Open Day
DESCRIPTION:The Havant and South Downs College Open Day is the perfect opportunity to explore one of the region’s leading further education colleges\, tour the campus and industry-standard facilities\, meet experienced lecturers\, and discover a wide range of courses including A‑Levels\, vocational programmes\, T‑Levels\, and apprenticeships. Visitors can ask staff about course options\, applications\, student support\, and career pathways\, as well as attend interactive demonstrations and sample lessons to get a real feel for college life. Whether you are finishing school\, considering a career change\, or looking to upskill\, this open day provides practical insights and guidance to help you make informed decisions about your future education and career.
URL:https://southcoastiot.ac.uk/event/havant-and-south-downs-college-open-day/
LOCATION:Havant & South Downs College\, College Road\, Waterlooville\, Hampshire\, PO7 8AA\, United Kingdom
CATEGORIES:Open Event
ATTACH;FMTTYPE=image/jpeg:https://southcoastiot.ac.uk/wp-content/uploads/2025/12/Adult-Open-Event-Social-Image-25-DEC-V1B.jpg
ORGANIZER;CN="Havant and South Downs College":MAILTO:customerservices@hsdc.ac.uk
END:VEVENT
END:VCALENDAR