BEGIN:VCALENDAR
VERSION:2.0
PRODID:-//South Coast Institute of Technology - ECPv6.15.15//NONSGML v1.0//EN
CALSCALE:GREGORIAN
METHOD:PUBLISH
X-WR-CALNAME:South Coast Institute of Technology
X-ORIGINAL-URL:https://southcoastiot.ac.uk
X-WR-CALDESC:Events for South Coast Institute of Technology
REFRESH-INTERVAL;VALUE=DURATION:PT1H
X-Robots-Tag:noindex
X-PUBLISHED-TTL:PT1H
BEGIN:VTIMEZONE
TZID:UTC
BEGIN:STANDARD
TZOFFSETFROM:+0000
TZOFFSETTO:+0000
TZNAME:UTC
DTSTART:20250101T000000
END:STANDARD
END:VTIMEZONE
BEGIN:VEVENT
DTSTART;TZID=UTC:20260318T170000
DTEND;TZID=UTC:20260318T190000
DTSTAMP:20260422T112217
CREATED:20251201T125004Z
LAST-MODIFIED:20260119T153101Z
UID:10417-1773853200-1773860400@southcoastiot.ac.uk
SUMMARY:SHCG – Fareham College
DESCRIPTION:The Fareham College Open Event is the perfect opportunity to explore one of Hampshire’s leading further education colleges. Visitors can tour the campus\, see industry-standard facilities\, and meet experienced lecturers. You can discover a wide range of courses\, including T-Levels\, apprenticeships\, and full-time vocational programmes. \nAt the event\, staff are available to answer questions about course options\, apprenticeships\, the application process\, student support\, and career pathways. You can also hear success stories from current students and alumni\, giving you a real sense of what college life is like at Fareham College. Whether you are finishing school\, looking to upskill\, or considering a career change\, this open event will help you make informed decisions about your future. You will leave with detailed information about courses\, guidance on applications\, and advice on funding and support services.
URL:https://southcoastiot.ac.uk/event/shcg-fareham-college/
LOCATION:fareham college\, Bishopsfield Road\, Fareham\, Hampshire\, PO14 1NH\, United Kingdom
CATEGORIES:college,Open Event
ATTACH;FMTTYPE=image/webp:https://southcoastiot.ac.uk/wp-content/uploads/2024/12/Event_Header_Fareham_General.webp
ORGANIZER;CN="South Hampshire College Group":MAILTO:marketing@shcg.ac.uk
END:VEVENT
BEGIN:VEVENT
DTSTART;TZID=UTC:20260326T090000
DTEND;TZID=UTC:20260427T173000
DTSTAMP:20260422T112217
CREATED:20260202T145448Z
LAST-MODIFIED:20260202T145448Z
UID:10700-1774515600-1777311000@southcoastiot.ac.uk
SUMMARY:Coastal Powerhouse Summit
DESCRIPTION:The Coastal Powerhouse Summit is a high‑profile gathering designed to champion the future of the UK’s coastal regions\, bringing together leaders from government\, industry\, education and local communities to drive meaningful change. This flagship event serves as a catalyst for collaboration\, innovation and investment\, shining a spotlight on the unique strengths\, challenges and opportunities that define coastal economies. \nAcross keynote sessions\, panel discussions and interactive workshops\, delegates explore bold ideas in areas such as sustainable growth\, maritime innovation\, skills development\, regeneration\, net‑zero transition and the blue economy. The Summit creates a dynamic platform where decision‑makers and changemakers can share insights\, forge partnerships and shape strategies that unlock long‑term prosperity for coastal communities.
URL:https://southcoastiot.ac.uk/event/coastal-powerhouse-summit/
LOCATION:ABP Ocean Terminal \, Southampton
CATEGORIES:careers event,school,technology
END:VEVENT
END:VCALENDAR